Package: aggregateBioVar Version: 1.16.0 Command: rm -rf aggregateBioVar.buildbin-libdir && mkdir aggregateBioVar.buildbin-libdir && /Users/biocbuild/BBS/utils/build-universal.sh aggregateBioVar_1.16.0.tar.gz /Library/Frameworks/R.framework/Resources/bin/R aggregateBioVar.buildbin-libdir StartedAt: 2025-02-04 12:26:04 -0500 (Tue, 04 Feb 2025) EndedAt: 2025-02-04 12:26:55 -0500 (Tue, 04 Feb 2025) EllapsedTime: 51.8 seconds RetCode: 0 Status: OK PackageFile: aggregateBioVar_1.16.0.tgz PackageFileSize: 1.781 MiB