Package: aggregateBioVar Version: 1.16.0 Command: /Library/Frameworks/R.framework/Resources/bin/R CMD build --keep-empty-dirs --no-resave-data aggregateBioVar StartedAt: 2025-02-03 16:59:04 -0500 (Mon, 03 Feb 2025) EndedAt: 2025-02-03 17:01:54 -0500 (Mon, 03 Feb 2025) EllapsedTime: 170.4 seconds RetCode: 0 Status: OK PackageFile: aggregateBioVar_1.16.0.tar.gz PackageFileSize: 1.215 MiB