Package: aggregateBioVar Version: 1.16.0 Command: /Library/Frameworks/R.framework/Resources/bin/R CMD check --install=check:aggregateBioVar.install-out.txt --library=/Library/Frameworks/R.framework/Resources/library --no-vignettes --timings aggregateBioVar_1.16.0.tar.gz StartedAt: 2025-02-03 23:31:05 -0500 (Mon, 03 Feb 2025) EndedAt: 2025-02-03 23:37:37 -0500 (Mon, 03 Feb 2025) EllapsedTime: 392.4 seconds RetCode: 0 Status: OK CheckDir: aggregateBioVar.Rcheck Warnings: 0