Package: aggregateBioVar Version: 1.16.0 Command: /home/biocbuild/bbs-3.20-bioc/R/bin/R CMD check --install=check:aggregateBioVar.install-out.txt --library=/home/biocbuild/bbs-3.20-bioc/R/site-library --timings aggregateBioVar_1.16.0.tar.gz StartedAt: 2025-02-03 19:57:46 -0500 (Mon, 03 Feb 2025) EndedAt: 2025-02-03 20:01:23 -0500 (Mon, 03 Feb 2025) EllapsedTime: 217.3 seconds RetCode: 0 Status: OK CheckDir: aggregateBioVar.Rcheck Warnings: 0