Package: aggregateBioVar Version: 1.16.0 Command: chmod a+r aggregateBioVar -R && F:\biocbuild\bbs-3.20-bioc\R\bin\R.exe CMD build --keep-empty-dirs --no-resave-data aggregateBioVar StartedAt: 2025-02-03 17:25:44 -0500 (Mon, 03 Feb 2025) EndedAt: 2025-02-03 17:27:52 -0500 (Mon, 03 Feb 2025) EllapsedTime: 127.9 seconds RetCode: 0 Status: OK PackageFile: aggregateBioVar_1.16.0.tar.gz PackageFileSize: 990 KiB