Package: aggregateBioVar Version: 1.16.0 Command: /home/biocbuild/R/R/bin/R CMD build --keep-empty-dirs --no-resave-data aggregateBioVar StartedAt: 2025-02-03 21:32:57 -0000 (Mon, 03 Feb 2025) EndedAt: 2025-02-03 21:34:33 -0000 (Mon, 03 Feb 2025) EllapsedTime: 96.1 seconds RetCode: 0 Status: OK PackageFile: aggregateBioVar_1.16.0.tar.gz PackageFileSize: 1.01 MiB