Package: aggregateBioVar Version: 1.16.0 Command: /home/biocbuild/R/R/bin/R CMD check --install=check:aggregateBioVar.install-out.txt --library=/home/biocbuild/R/R/site-library --no-vignettes --timings aggregateBioVar_1.16.0.tar.gz StartedAt: 2025-02-04 04:13:15 -0000 (Tue, 04 Feb 2025) EndedAt: 2025-02-04 04:18:19 -0000 (Tue, 04 Feb 2025) EllapsedTime: 304.9 seconds RetCode: 0 Status: OK CheckDir: aggregateBioVar.Rcheck Warnings: 0