Package: agilp Version: 3.38.0 Command: /Library/Frameworks/R.framework/Resources/bin/R CMD build --keep-empty-dirs --no-resave-data agilp StartedAt: 2025-01-30 18:39:00 -0500 (Thu, 30 Jan 2025) EndedAt: 2025-01-30 18:39:09 -0500 (Thu, 30 Jan 2025) EllapsedTime: 9.2 seconds RetCode: 0 Status: OK PackageFile: agilp_3.38.0.tar.gz PackageFileSize: 453 KiB