Package: agilp Version: 3.38.0 Command: /home/biocbuild/bbs-3.20-bioc/R/bin/R CMD INSTALL agilp StartedAt: 2025-01-30 15:04:19 -0500 (Thu, 30 Jan 2025) EndedAt: 2025-01-30 15:04:29 -0500 (Thu, 30 Jan 2025) EllapsedTime: 10.2 seconds RetCode: 0 Status: OK