Package: agilp Version: 3.38.0 Command: rm -rf agilp.buildbin-libdir && mkdir agilp.buildbin-libdir && F:\biocbuild\bbs-3.20-bioc\R\bin\R.exe CMD INSTALL --build --library=agilp.buildbin-libdir agilp_3.38.0.tar.gz StartedAt: 2025-02-04 07:56:22 -0500 (Tue, 04 Feb 2025) EndedAt: 2025-02-04 07:56:36 -0500 (Tue, 04 Feb 2025) EllapsedTime: 13.1 seconds RetCode: 0 Status: OK PackageFile: agilp_3.38.0.zip PackageFileSize: 387.7 KiB