Package: agilp Version: 3.38.0 Command: /home/biocbuild/R/R/bin/R CMD build --keep-empty-dirs --no-resave-data agilp StartedAt: 2025-01-30 21:28:22 -0000 (Thu, 30 Jan 2025) EndedAt: 2025-01-30 21:28:28 -0000 (Thu, 30 Jan 2025) EllapsedTime: 6.0 seconds RetCode: 0 Status: OK PackageFile: agilp_3.38.0.tar.gz PackageFileSize: 446 KiB