Package: alabaster.base Version: 1.6.1 Command: /Library/Frameworks/R.framework/Resources/bin/R CMD check --install=check:alabaster.base.install-out.txt --library=/Library/Frameworks/R.framework/Resources/library --no-vignettes --timings alabaster.base_1.6.1.tar.gz StartedAt: 2025-02-04 10:58:39 -0500 (Tue, 04 Feb 2025) EndedAt: 2025-02-04 11:00:23 -0500 (Tue, 04 Feb 2025) EllapsedTime: 104.7 seconds RetCode: 0 Status: WARNINGS CheckDir: alabaster.base.Rcheck Warnings: 1