Package: alabaster.base Version: 1.6.1 Command: /Library/Frameworks/R.framework/Resources/bin/R CMD build --keep-empty-dirs --no-resave-data alabaster.base StartedAt: 2025-02-03 16:59:36 -0500 (Mon, 03 Feb 2025) EndedAt: 2025-02-03 17:02:54 -0500 (Mon, 03 Feb 2025) EllapsedTime: 197.5 seconds RetCode: 0 Status: OK PackageFile: alabaster.base_1.6.1.tar.gz PackageFileSize: 399 KiB