Package: alabaster.base Version: 1.6.1 Command: /home/biocbuild/bbs-3.20-bioc/R/bin/R CMD build --keep-empty-dirs --no-resave-data --md5 alabaster.base StartedAt: 2025-02-03 16:17:59 -0500 (Mon, 03 Feb 2025) EndedAt: 2025-02-03 16:19:42 -0500 (Mon, 03 Feb 2025) EllapsedTime: 103.1 seconds RetCode: 0 Status: OK PackageFile: alabaster.base_1.6.1.tar.gz PackageFileSize: 407 KiB