Package: alabaster.base Version: 1.6.1 Command: /home/biocbuild/bbs-3.20-bioc/R/bin/R CMD check --install=check:alabaster.base.install-out.txt --library=/home/biocbuild/bbs-3.20-bioc/R/site-library --timings alabaster.base_1.6.1.tar.gz StartedAt: 2025-02-03 19:58:43 -0500 (Mon, 03 Feb 2025) EndedAt: 2025-02-03 20:00:24 -0500 (Mon, 03 Feb 2025) EllapsedTime: 101.2 seconds RetCode: 0 Status: WARNINGS CheckDir: alabaster.base.Rcheck Warnings: 1