Package: alabaster.bumpy Version: 1.6.0 Command: /Library/Frameworks/R.framework/Resources/bin/R CMD build --keep-empty-dirs --no-resave-data alabaster.bumpy StartedAt: 2025-02-03 18:31:07 -0500 (Mon, 03 Feb 2025) EndedAt: 2025-02-03 18:31:27 -0500 (Mon, 03 Feb 2025) EllapsedTime: 20.6 seconds RetCode: 0 Status: OK PackageFile: alabaster.bumpy_1.6.0.tar.gz PackageFileSize: 235.3 KiB