Package: alabaster.bumpy Version: 1.6.0 Command: F:\biocbuild\bbs-3.20-bioc\R\bin\R.exe CMD INSTALL alabaster.bumpy StartedAt: 2025-02-03 15:46:03 -0500 (Mon, 03 Feb 2025) EndedAt: 2025-02-03 15:46:39 -0500 (Mon, 03 Feb 2025) EllapsedTime: 35.9 seconds RetCode: 0 Status: OK