Package: alabaster.matrix Version: 1.6.1 Command: /Library/Frameworks/R.framework/Resources/bin/R CMD check --install=check:alabaster.matrix.install-out.txt --library=/Library/Frameworks/R.framework/Resources/library --no-vignettes --timings alabaster.matrix_1.6.1.tar.gz StartedAt: 2025-02-04 11:01:33 -0500 (Tue, 04 Feb 2025) EndedAt: 2025-02-04 11:05:39 -0500 (Tue, 04 Feb 2025) EllapsedTime: 245.3 seconds RetCode: 0 Status: OK CheckDir: alabaster.matrix.Rcheck Warnings: 0