Package: alabaster.matrix Version: 1.6.1 Command: /Library/Frameworks/R.framework/Resources/bin/R CMD build --keep-empty-dirs --no-resave-data alabaster.matrix StartedAt: 2025-01-30 17:03:28 -0500 (Thu, 30 Jan 2025) EndedAt: 2025-01-30 17:04:48 -0500 (Thu, 30 Jan 2025) EllapsedTime: 80.0 seconds RetCode: 0 Status: OK PackageFile: alabaster.matrix_1.6.1.tar.gz PackageFileSize: 273.7 KiB