Package: alabaster.matrix Version: 1.6.1 Command: /Library/Frameworks/R.framework/Resources/bin/R CMD check --install=check:alabaster.matrix.install-out.txt --library=/Library/Frameworks/R.framework/Resources/library --no-vignettes --timings alabaster.matrix_1.6.1.tar.gz StartedAt: 2025-01-31 00:03:10 -0500 (Fri, 31 Jan 2025) EndedAt: 2025-01-31 00:10:40 -0500 (Fri, 31 Jan 2025) EllapsedTime: 449.3 seconds RetCode: 0 Status: OK CheckDir: alabaster.matrix.Rcheck Warnings: 0