Package: alabaster.matrix Version: 1.6.1 Command: rm -rf alabaster.matrix.buildbin-libdir && mkdir alabaster.matrix.buildbin-libdir && F:\biocbuild\bbs-3.20-bioc\R\bin\R.exe CMD INSTALL --build --library=alabaster.matrix.buildbin-libdir alabaster.matrix_1.6.1.tar.gz StartedAt: 2025-01-31 08:07:13 -0500 (Fri, 31 Jan 2025) EndedAt: 2025-01-31 08:09:45 -0500 (Fri, 31 Jan 2025) EllapsedTime: 151.8 seconds RetCode: 0 Status: OK PackageFile: alabaster.matrix_1.6.1.zip PackageFileSize: 1.025 MiB