Package: alabaster.matrix Version: 1.6.1 Command: /home/biocbuild/R/R/bin/R CMD build --keep-empty-dirs --no-resave-data alabaster.matrix StartedAt: 2025-02-03 21:33:54 -0000 (Mon, 03 Feb 2025) EndedAt: 2025-02-03 21:34:38 -0000 (Mon, 03 Feb 2025) EllapsedTime: 44.0 seconds RetCode: 0 Status: OK PackageFile: alabaster.matrix_1.6.1.tar.gz PackageFileSize: 297.9 KiB