Package: alabaster.matrix Version: 1.6.1 Command: /home/biocbuild/R/R/bin/R CMD check --install=check:alabaster.matrix.install-out.txt --library=/home/biocbuild/R/R/site-library --no-vignettes --timings alabaster.matrix_1.6.1.tar.gz StartedAt: 2025-02-04 04:15:09 -0000 (Tue, 04 Feb 2025) EndedAt: 2025-02-04 04:21:06 -0000 (Tue, 04 Feb 2025) EllapsedTime: 356.9 seconds RetCode: 0 Status: OK CheckDir: alabaster.matrix.Rcheck Warnings: 0