Package: alabaster.matrix Version: 1.6.0 Command: /home/biocbuild/bbs-3.20-bioc/R/bin/R CMD INSTALL alabaster.matrix StartedAt: 2024-11-19 15:34:12 -0500 (Tue, 19 Nov 2024) EndedAt: 2024-11-19 15:34:36 -0500 (Tue, 19 Nov 2024) EllapsedTime: 24.0 seconds RetCode: 0 Status: OK