Package: alabaster.ranges Version: 1.6.0 Command: rm -rf alabaster.ranges.buildbin-libdir && mkdir alabaster.ranges.buildbin-libdir && /Users/biocbuild/BBS/utils/build-universal.sh alabaster.ranges_1.6.0.tar.gz /Library/Frameworks/R.framework/Resources/bin/R alabaster.ranges.buildbin-libdir StartedAt: 2025-02-05 14:45:54 -0500 (Wed, 05 Feb 2025) EndedAt: 2025-02-05 14:46:08 -0500 (Wed, 05 Feb 2025) EllapsedTime: 14.7 seconds RetCode: 0 Status: OK PackageFile: alabaster.ranges_1.6.0.tgz PackageFileSize: 307.9 KiB