Package: alabaster.ranges Version: 1.6.0 Command: rm -rf alabaster.ranges.buildbin-libdir && mkdir alabaster.ranges.buildbin-libdir && /Users/biocbuild/BBS/utils/build-universal.sh alabaster.ranges_1.6.0.tar.gz /Library/Frameworks/R.framework/Resources/bin/R alabaster.ranges.buildbin-libdir StartedAt: 2025-02-04 12:26:28 -0500 (Tue, 04 Feb 2025) EndedAt: 2025-02-04 12:26:54 -0500 (Tue, 04 Feb 2025) EllapsedTime: 25.9 seconds RetCode: 0 Status: OK PackageFile: alabaster.ranges_1.6.0.tgz PackageFileSize: 308.1 KiB