Package: alabaster.ranges Version: 1.6.0 Command: /Library/Frameworks/R.framework/Resources/bin/R CMD check --install=check:alabaster.ranges.install-out.txt --library=/Library/Frameworks/R.framework/Resources/library --no-vignettes --timings alabaster.ranges_1.6.0.tar.gz StartedAt: 2025-02-10 23:32:52 -0500 (Mon, 10 Feb 2025) EndedAt: 2025-02-10 23:36:12 -0500 (Mon, 10 Feb 2025) EllapsedTime: 199.8 seconds RetCode: 0 Status: OK CheckDir: alabaster.ranges.Rcheck Warnings: 0