Package: alabaster.ranges Version: 1.6.0 Command: /Library/Frameworks/R.framework/Resources/bin/R CMD INSTALL alabaster.ranges StartedAt: 2025-02-03 15:26:11 -0500 (Mon, 03 Feb 2025) EndedAt: 2025-02-03 15:26:36 -0500 (Mon, 03 Feb 2025) EllapsedTime: 25.0 seconds RetCode: 0 Status: OK