Package: alabaster.ranges Version: 1.6.0 Command: /home/biocbuild/bbs-3.20-bioc/R/bin/R CMD INSTALL alabaster.ranges StartedAt: 2025-02-03 15:21:50 -0500 (Mon, 03 Feb 2025) EndedAt: 2025-02-03 15:22:01 -0500 (Mon, 03 Feb 2025) EllapsedTime: 10.6 seconds RetCode: 0 Status: OK