Package: alabaster.ranges Version: 1.6.0 Command: /home/biocbuild/R/R/bin/R CMD build --keep-empty-dirs --no-resave-data alabaster.ranges StartedAt: 2025-02-03 21:33:59 -0000 (Mon, 03 Feb 2025) EndedAt: 2025-02-03 21:34:19 -0000 (Mon, 03 Feb 2025) EllapsedTime: 20.0 seconds RetCode: 0 Status: OK PackageFile: alabaster.ranges_1.6.0.tar.gz PackageFileSize: 250.2 KiB