Package: alabaster.sce Version: 1.6.0 Command: /Library/Frameworks/R.framework/Resources/bin/R CMD build --keep-empty-dirs --no-resave-data alabaster.sce StartedAt: 2025-01-30 18:42:04 -0500 (Thu, 30 Jan 2025) EndedAt: 2025-01-30 18:42:49 -0500 (Thu, 30 Jan 2025) EllapsedTime: 44.7 seconds RetCode: 0 Status: OK PackageFile: alabaster.sce_1.6.0.tar.gz PackageFileSize: 220.2 KiB