Package: alabaster.sce Version: 1.6.0 Command: /Library/Frameworks/R.framework/Resources/bin/R CMD build --keep-empty-dirs --no-resave-data alabaster.sce StartedAt: 2024-11-19 15:53:58 -0500 (Tue, 19 Nov 2024) EndedAt: 2024-11-19 15:54:44 -0500 (Tue, 19 Nov 2024) EllapsedTime: 46.7 seconds RetCode: 0 Status: OK PackageFile: alabaster.sce_1.6.0.tar.gz PackageFileSize: 220.3 KiB