Package: alabaster.sce Version: 1.6.0 Command: /Library/Frameworks/R.framework/Resources/bin/R CMD INSTALL alabaster.sce StartedAt: 2025-01-30 16:36:39 -0500 (Thu, 30 Jan 2025) EndedAt: 2025-01-30 16:37:37 -0500 (Thu, 30 Jan 2025) EllapsedTime: 57.7 seconds RetCode: 0 Status: OK