Package: alabaster.sce Version: 1.6.0 Command: /home/biocbuild/bbs-3.20-bioc/R/bin/R CMD INSTALL alabaster.sce StartedAt: 2025-01-30 15:56:41 -0500 (Thu, 30 Jan 2025) EndedAt: 2025-01-30 15:57:09 -0500 (Thu, 30 Jan 2025) EllapsedTime: 28.1 seconds RetCode: 0 Status: OK