Package: alabaster.sce Version: 1.5.1 Command: chmod a+r alabaster.sce -R && F:\biocbuild\bbs-3.20-bioc\R\bin\R.exe CMD build --keep-empty-dirs --no-resave-data alabaster.sce StartedAt: 2024-06-09 17:09:51 -0400 (Sun, 09 Jun 2024) EndedAt: 2024-06-09 17:10:47 -0400 (Sun, 09 Jun 2024) EllapsedTime: 56.1 seconds RetCode: 0 Status: OK PackageFile: alabaster.sce_1.5.1.tar.gz PackageFileSize: 220.7 KiB