Package: alabaster.sce Version: 1.5.1 Command: C:\Users\biocbuild\bbs-3.20-bioc\R\bin\R.exe CMD INSTALL alabaster.sce StartedAt: 2024-07-15 16:10:59 -0400 (Mon, 15 Jul 2024) EndedAt: 2024-07-15 16:11:31 -0400 (Mon, 15 Jul 2024) EllapsedTime: 32.4 seconds RetCode: 0 Status: OK