Package: alabaster.sce Version: 1.6.0 Command: F:\biocbuild\bbs-3.20-bioc\R\bin\R.exe CMD INSTALL alabaster.sce StartedAt: 2025-01-30 16:46:34 -0500 (Thu, 30 Jan 2025) EndedAt: 2025-01-30 16:47:03 -0500 (Thu, 30 Jan 2025) EllapsedTime: 28.7 seconds RetCode: 0 Status: OK