Package: alabaster.se Version: 1.6.0 Command: rm -rf alabaster.se.buildbin-libdir && mkdir alabaster.se.buildbin-libdir && /Users/biocbuild/BBS/utils/build-universal.sh alabaster.se_1.6.0.tar.gz /Library/Frameworks/R.framework/Resources/bin/R alabaster.se.buildbin-libdir StartedAt: 2025-02-01 13:51:11 -0500 (Sat, 01 Feb 2025) EndedAt: 2025-02-01 13:51:41 -0500 (Sat, 01 Feb 2025) EllapsedTime: 30.9 seconds RetCode: 0 Status: OK PackageFile: alabaster.se_1.6.0.tgz PackageFileSize: 293.8 KiB