Package: alabaster.se Version: 1.6.0 Command: /Library/Frameworks/R.framework/Resources/bin/R CMD INSTALL alabaster.se StartedAt: 2025-02-03 17:52:40 -0500 (Mon, 03 Feb 2025) EndedAt: 2025-02-03 17:53:08 -0500 (Mon, 03 Feb 2025) EllapsedTime: 27.9 seconds RetCode: 0 Status: OK