Package: alabaster.se Version: 1.6.0 Command: /home/biocbuild/R/R/bin/R CMD build --keep-empty-dirs --no-resave-data alabaster.se StartedAt: 2024-11-19 22:43:42 -0000 (Tue, 19 Nov 2024) EndedAt: 2024-11-19 22:44:29 -0000 (Tue, 19 Nov 2024) EllapsedTime: 47.1 seconds RetCode: 0 Status: OK PackageFile: alabaster.se_1.6.0.tar.gz PackageFileSize: 249.5 KiB