Package: alabaster.se Version: 1.6.0 Command: /Library/Frameworks/R.framework/Resources/bin/R CMD build --keep-empty-dirs --no-resave-data alabaster.se StartedAt: 2025-02-03 17:00:31 -0500 (Mon, 03 Feb 2025) EndedAt: 2025-02-03 17:01:44 -0500 (Mon, 03 Feb 2025) EllapsedTime: 72.5 seconds RetCode: 0 Status: OK PackageFile: alabaster.se_1.6.0.tar.gz PackageFileSize: 225 KiB