Package: alabaster.se Version: 1.6.0 Command: /home/biocbuild/bbs-3.20-bioc/R/bin/R CMD build --keep-empty-dirs --no-resave-data --md5 alabaster.se StartedAt: 2025-02-03 16:18:32 -0500 (Mon, 03 Feb 2025) EndedAt: 2025-02-03 16:19:13 -0500 (Mon, 03 Feb 2025) EllapsedTime: 41.1 seconds RetCode: 0 Status: OK PackageFile: alabaster.se_1.6.0.tar.gz PackageFileSize: 225.7 KiB