Package: alabaster.se Version: 1.6.0 Command: /home/biocbuild/bbs-3.20-bioc/R/bin/R CMD check --install=check:alabaster.se.install-out.txt --library=/home/biocbuild/bbs-3.20-bioc/R/site-library --timings alabaster.se_1.6.0.tar.gz StartedAt: 2025-02-03 19:59:27 -0500 (Mon, 03 Feb 2025) EndedAt: 2025-02-03 20:02:37 -0500 (Mon, 03 Feb 2025) EllapsedTime: 190.2 seconds RetCode: 0 Status: OK CheckDir: alabaster.se.Rcheck Warnings: 0