Package: alabaster.se Version: 1.6.0 Command: chmod a+r alabaster.se -R && F:\biocbuild\bbs-3.20-bioc\R\bin\R.exe CMD build --keep-empty-dirs --no-resave-data alabaster.se StartedAt: 2025-02-03 17:27:13 -0500 (Mon, 03 Feb 2025) EndedAt: 2025-02-03 17:28:00 -0500 (Mon, 03 Feb 2025) EllapsedTime: 47.1 seconds RetCode: 0 Status: OK PackageFile: alabaster.se_1.6.0.tar.gz PackageFileSize: 225.1 KiB