Package: alabaster.se Version: 1.6.0 Command: /home/biocbuild/R/R/bin/R CMD build --keep-empty-dirs --no-resave-data alabaster.se StartedAt: 2025-01-30 21:29:31 -0000 (Thu, 30 Jan 2025) EndedAt: 2025-01-30 21:30:10 -0000 (Thu, 30 Jan 2025) EllapsedTime: 39.0 seconds RetCode: 0 Status: OK PackageFile: alabaster.se_1.6.0.tar.gz PackageFileSize: 249.5 KiB