Package: alabaster.se Version: 1.6.0 Command: /home/biocbuild/R/R/bin/R CMD INSTALL alabaster.se StartedAt: 2025-01-30 21:00:59 -0000 (Thu, 30 Jan 2025) EndedAt: 2025-01-30 21:01:28 -0000 (Thu, 30 Jan 2025) EllapsedTime: 29.0 seconds RetCode: 0 Status: OK