Package: alabaster.spatial Version: 1.6.1 Command: /Library/Frameworks/R.framework/Resources/bin/R CMD build --keep-empty-dirs --no-resave-data alabaster.spatial StartedAt: 2025-01-30 18:42:26 -0500 (Thu, 30 Jan 2025) EndedAt: 2025-01-30 18:43:17 -0500 (Thu, 30 Jan 2025) EllapsedTime: 51.6 seconds RetCode: 0 Status: OK PackageFile: alabaster.spatial_1.6.1.tar.gz PackageFileSize: 739 KiB