Package: alabaster.spatial Version: 1.6.1 Command: /Library/Frameworks/R.framework/Resources/bin/R CMD check --install=check:alabaster.spatial.install-out.txt --library=/Library/Frameworks/R.framework/Resources/library --no-vignettes --timings alabaster.spatial_1.6.1.tar.gz StartedAt: 2025-01-31 10:46:14 -0500 (Fri, 31 Jan 2025) EndedAt: 2025-01-31 10:50:15 -0500 (Fri, 31 Jan 2025) EllapsedTime: 241.1 seconds RetCode: 0 Status: OK CheckDir: alabaster.spatial.Rcheck Warnings: 0