Package: alabaster.spatial Version: 1.6.1 Command: /Library/Frameworks/R.framework/Resources/bin/R CMD INSTALL alabaster.spatial StartedAt: 2025-01-30 17:59:02 -0500 (Thu, 30 Jan 2025) EndedAt: 2025-01-30 17:59:35 -0500 (Thu, 30 Jan 2025) EllapsedTime: 33.1 seconds RetCode: 0 Status: OK