Package: alabaster.spatial Version: 1.6.1 Command: /Library/Frameworks/R.framework/Resources/bin/R CMD build --keep-empty-dirs --no-resave-data alabaster.spatial StartedAt: 2025-02-03 17:00:33 -0500 (Mon, 03 Feb 2025) EndedAt: 2025-02-03 17:02:02 -0500 (Mon, 03 Feb 2025) EllapsedTime: 88.2 seconds RetCode: 0 Status: OK PackageFile: alabaster.spatial_1.6.1.tar.gz PackageFileSize: 739.1 KiB